BEGIN:VCALENDAR
VERSION:2.0
PRODID:-//Debate Institute Africa - ECPv6.15.20//NONSGML v1.0//EN
CALSCALE:GREGORIAN
METHOD:PUBLISH
X-WR-CALNAME:Debate Institute Africa
X-ORIGINAL-URL:https://debateinstituteafrica.com
X-WR-CALDESC:Events for Debate Institute Africa
REFRESH-INTERVAL;VALUE=DURATION:PT1H
X-Robots-Tag:noindex
X-PUBLISHED-TTL:PT1H
BEGIN:VTIMEZONE
TZID:UTC
BEGIN:STANDARD
TZOFFSETFROM:+0000
TZOFFSETTO:+0000
TZNAME:UTC
DTSTART:20230101T000000
END:STANDARD
END:VTIMEZONE
BEGIN:VTIMEZONE
TZID:Europe/Moscow
BEGIN:STANDARD
TZOFFSETFROM:+0300
TZOFFSETTO:+0300
TZNAME:MSK
DTSTART:20230101T000000
END:STANDARD
END:VTIMEZONE
BEGIN:VEVENT
DTSTART;TZID=UTC:20241201T080000
DTEND;TZID=UTC:20250201T170000
DTSTAMP:20260423T184204
CREATED:20241030T131740Z
LAST-MODIFIED:20241030T131740Z
UID:1793-1733040000-1738429200@debateinstituteafrica.com
SUMMARY:DIA Model UN workshops
DESCRIPTION:Gear up for success at our free December MUN Workshops! 🚀✨ \n➖➖➖➖➖➖➖➖➖➖➖ \nJoin us for  engaging sessions that will equip you with essential skills and insights for an impactful Model United Nations experience. 🌍🕊️ \nDon’t miss this opportunity to enhance your debating 🗣️\, research 🔍\, and public speaking 🎤 abilities. \n➖➖➖➖➖➖➖➖➖ \nRegister now and be part of the change! 🔥 \nhttps://docs.google.com/forms/d/e/1FAIpQLSc5Wz-e1UsncfCAS-bUgQFmyLgq-2AWTYnE9Jxb9D3Tq408fw/viewform?usp=pp_url
URL:https://debateinstituteafrica.com/event/dia-model-un-workshops/
CATEGORIES:Global,National,Regional
ATTACH;FMTTYPE=image/jpeg:https://debateinstituteafrica.com/wp-content/uploads/2024/10/WhatsApp-Image-2024-10-29-at-19.47.59.jpeg
END:VEVENT
BEGIN:VEVENT
DTSTART;VALUE=DATE:20241201
DTEND;VALUE=DATE:20250202
DTSTAMP:20260423T184204
CREATED:20241030T125704Z
LAST-MODIFIED:20241030T130417Z
UID:1782-1733011200-1738454399@debateinstituteafrica.com
SUMMARY:Holiday Public Speaking Classes
DESCRIPTION:Affordable Public Speaking Course: Only UGX 150\,000. \nTake the first step towards confident\, powerful communication! Our affordable public speaking course provides eight weekly sessions\, with two hours each week\, designed to help you master essential speaking skills. With a blend of practical guidance and interactive learning led by seasoned coaches\, this course will boost your public speaking abilities\, preparing you for any stage. \nWhat You’ll Gain:\nOur course is designed to help you overcome fears\, engage audiences\, and end with impact\, with skills that can be applied to real-world projects. You’ll also get to showcase your talents in a public speaking competition\, where you can demonstrate the skills you’ve learned. \nCourse Highlights:\n– Interactive online learning with experienced coaches\n– Practical projects for real-world application\n– Showcase skills in a public speaking competition\n– Certification: Earn an Alpha Speech Class Certificate upon completion \nCourse Skills Overview:\n– Overcoming Speaking Anxiety\n– Starting a Speech with Power\n– Planning for Any Speech\n– Audience Engagement Skills\n– Ending a Speech in a Memorable Way \nInvest in Your Future\nMastering public speaking is an invaluable skill that empowers you both personally and professionally. Register today to gain confidence and clarity in your communication! \nRegister Now: https://docs.google.com/forms/d/e/1FAIpQLScIwhU52GZ398zMctb8XFru76Ccc-H4n-7L51RnUFrcM14cYg/viewform and begin your journey to becoming a confident\, articulate speaker.
URL:https://debateinstituteafrica.com/event/holiday-public-speaking-classes/
CATEGORIES:Global,National,Regional
ATTACH;FMTTYPE=image/png:https://debateinstituteafrica.com/wp-content/uploads/2024/10/ALPHA-1-1.png
END:VEVENT
BEGIN:VEVENT
DTSTART;TZID=Europe/Moscow:20241107T080000
DTEND;TZID=Europe/Moscow:20241130T170000
DTSTAMP:20260423T184204
CREATED:20241030T131021Z
LAST-MODIFIED:20241030T131021Z
UID:1790-1730966400-1732986000@debateinstituteafrica.com
SUMMARY:Public Speaking & Debate Coaches Boot Camp
DESCRIPTION:Sign up for a certificate in Public Speaking & Debate Coaching with Debate Institute Africa. \nYou want to be a great Debate and Public Speech coach❓⁉️ \nWell\, at DIA\, we have just the programme for you. \nTHE COACHES BOOTCAMP \nhttps://docs.google.com/forms/d/e/1FAIpQLSf_vUzK5llJ-1m4DV-ecNF2yTGxEGtxwmKzYwJ8ptZOrhoFzg/viewform?usp=pp_url \nJust fill in this application form real fast and we shall get back to you in a sec. \nRemember\, the clock is ticking‼️ \nSee you there 👇👇 \nhttps://docs.google.com/forms/d/e/1FAIpQLSf_vUzK5llJ-1m4DV-ecNF2yTGxEGtxwmKzYwJ8ptZOrhoFzg/viewform?usp=pp_url
URL:https://debateinstituteafrica.com/event/public-speaking-debate-coaches-boot-camp/
CATEGORIES:Global,National,Regional
ATTACH;FMTTYPE=image/jpeg:https://debateinstituteafrica.com/wp-content/uploads/2024/10/WhatsApp-Image-2024-10-28-at-11.07.13-1.jpeg
END:VEVENT
BEGIN:VEVENT
DTSTART;TZID=Europe/Moscow:20240923T200000
DTEND;TZID=Europe/Moscow:20240923T210000
DTSTAMP:20260423T184204
CREATED:20240920T103228Z
LAST-MODIFIED:20240920T103228Z
UID:1177-1727121600-1727125200@debateinstituteafrica.com
SUMMARY:Meta-Analysis of the US Presidential Debate By DIA Fellows
DESCRIPTION:The recent presidential debate served as a pivotal moment in the electoral cycle\, offering a platform for candidates to articulate their visions and challenge their opponents constructively. Through rigorous examination and critical analysis\, the DIA Fellows have synthesized observations on various dimensions of the debate\, including rhetorical effectiveness\, policy discourse\, body language\, and audience reception. This is an initiative of Debate Institute in promoting good debating culture. Join us on Monday evening at 8pm as we unveil this analysis. \nYou tube Link: https://www.youtube.com/live/JB7hVxtRLBc?si=QwfIljWTEQ8YlEfJ
URL:https://debateinstituteafrica.com/event/meta-analysis-of-the-us-presidential-debate-by-dia-fellows/
CATEGORIES:Global
ATTACH;FMTTYPE=image/png:https://debateinstituteafrica.com/wp-content/uploads/2024/09/Black-and-Green-Simple-Business-Youtube-Thumbnail_20240919_162629_0000-2.png
END:VEVENT
BEGIN:VEVENT
DTSTART;TZID=UTC:20240716T080000
DTEND;TZID=UTC:20240726T170000
DTSTAMP:20260423T184204
CREATED:20240712T152615Z
LAST-MODIFIED:20240712T153148Z
UID:941-1721116800-1722013200@debateinstituteafrica.com
SUMMARY:Debate Cranes at the 2024 World Schools Debating Championship - Belgrade\, Serbia
DESCRIPTION:Debate Cranes Squad Team A is competing at the  World Schools Debating Championship (WSDC). WSDC is a premier  global  competition for high school debaters\, boasting a rich tradition of excellence spanning 36 years. Organized by Open Communication\, an esteemed academic debating network founded in 1997\, the WSDC is dedicated to enhancing the culture of dialogue\, fostering critical thinking\, and promoting freedom of speech in Serbia. This prestigious event\, supported by the Government of the Republic of Serbia\, will take place over 10 days\, from July 16th to July 26th\, 2024. The event is also dubbed the World Cup of High School Debating.
URL:https://debateinstituteafrica.com/event/world-schools-debating-championship-belgrade-serbia/
LOCATION:University of Belgrade\, https://maps.app.goo.gl/vJihhqtvWbSaM7jd6\, Belgrade\, Serbia
CATEGORIES:Global
ATTACH;FMTTYPE=image/png:https://debateinstituteafrica.com/wp-content/uploads/2024/07/download-7.png
END:VEVENT
END:VCALENDAR